Package: DNABarcodes Version: 1.39.0 Command: rm -rf DNABarcodes.buildbin-libdir && mkdir DNABarcodes.buildbin-libdir && /Users/biocbuild/BBS/utils/build-universal.sh DNABarcodes_1.39.0.tar.gz /Library/Frameworks/R.framework/Resources/bin/R DNABarcodes.buildbin-libdir StartedAt: 2025-10-26 22:34:37 -0400 (Sun, 26 Oct 2025) EndedAt: 2025-10-26 22:34:57 -0400 (Sun, 26 Oct 2025) EllapsedTime: 19.5 seconds RetCode: 0 Status: OK PackageFile: DNABarcodes_1.39.0.tgz PackageFileSize: 480.3 KiB