Package: DNABarcodeCompatibility Version: 1.25.0 Command: /home/biocbuild/bbs-3.22-bioc/R/bin/R CMD check --install=check:DNABarcodeCompatibility.install-out.txt --library=/home/biocbuild/bbs-3.22-bioc/R/site-library --timings DNABarcodeCompatibility_1.25.0.tar.gz StartedAt: 2025-10-24 23:13:31 -0400 (Fri, 24 Oct 2025) EndedAt: 2025-10-24 23:14:44 -0400 (Fri, 24 Oct 2025) EllapsedTime: 73.1 seconds RetCode: 0 Status: OK CheckDir: DNABarcodeCompatibility.Rcheck Warnings: 0