Package: DNABarcodeCompatibility Version: 1.25.0 Command: /Library/Frameworks/R.framework/Resources/bin/R CMD build --keep-empty-dirs --no-resave-data DNABarcodeCompatibility StartedAt: 2025-10-24 16:54:16 -0400 (Fri, 24 Oct 2025) EndedAt: 2025-10-24 16:55:36 -0400 (Fri, 24 Oct 2025) EllapsedTime: 79.7 seconds RetCode: 0 Status: OK PackageFile: DNABarcodeCompatibility_1.25.0.tar.gz PackageFileSize: 260.1 KiB