Package: DNABarcodeCompatibility Version: 1.25.0 Command: rm -rf DNABarcodeCompatibility.buildbin-libdir && mkdir DNABarcodeCompatibility.buildbin-libdir && /Users/biocbuild/BBS/utils/build-universal.sh DNABarcodeCompatibility_1.25.0.tar.gz /Library/Frameworks/R.framework/Resources/bin/R DNABarcodeCompatibility.buildbin-libdir StartedAt: 2025-10-25 01:37:50 -0400 (Sat, 25 Oct 2025) EndedAt: 2025-10-25 01:38:28 -0400 (Sat, 25 Oct 2025) EllapsedTime: 38.1 seconds RetCode: 0 Status: OK PackageFile: DNABarcodeCompatibility_1.25.0.tgz PackageFileSize: 387.4 KiB