Package: DNABarcodeCompatibility Version: 1.25.0 Command: /Library/Frameworks/R.framework/Resources/bin/R CMD INSTALL DNABarcodeCompatibility StartedAt: 2025-10-24 15:07:49 -0400 (Fri, 24 Oct 2025) EndedAt: 2025-10-24 15:07:58 -0400 (Fri, 24 Oct 2025) EllapsedTime: 9.1 seconds RetCode: 0 Status: OK