Package: DNABarcodeCompatibility Version: 1.25.0 Command: rm -rf DNABarcodeCompatibility.buildbin-libdir && mkdir DNABarcodeCompatibility.buildbin-libdir && /Users/biocbuild/BBS/utils/build-universal.sh DNABarcodeCompatibility_1.25.0.tar.gz /Library/Frameworks/R.framework/Resources/bin/R DNABarcodeCompatibility.buildbin-libdir StartedAt: 2025-10-24 23:01:14 -0400 (Fri, 24 Oct 2025) EndedAt: 2025-10-24 23:01:25 -0400 (Fri, 24 Oct 2025) EllapsedTime: 10.2 seconds RetCode: 0 Status: OK PackageFile: DNABarcodeCompatibility_1.25.0.tgz PackageFileSize: 388.2 KiB