Package: DMRcaller Version: 1.42.0 Command: /home/biocbuild/bbs-3.22-bioc/R/bin/R CMD build --keep-empty-dirs --no-resave-data --md5 DMRcaller StartedAt: 2025-11-16 17:28:44 -0500 (Sun, 16 Nov 2025) EndedAt: 2025-11-16 17:31:09 -0500 (Sun, 16 Nov 2025) EllapsedTime: 145.1 seconds RetCode: 0 Status: OK PackageFile: DMRcaller_1.42.0.tar.gz PackageFileSize: 3.59 MiB