Package: DMRScan Version: 1.31.1 Command: /home/biocbuild/bbs-3.22-bioc/R/bin/R CMD INSTALL DMRScan StartedAt: 2025-10-24 15:34:33 -0400 (Fri, 24 Oct 2025) EndedAt: 2025-10-24 15:34:47 -0400 (Fri, 24 Oct 2025) EllapsedTime: 13.7 seconds RetCode: 0 Status: OK