Package: DMRScan Version: 1.32.0 Command: /Library/Frameworks/R.framework/Resources/bin/R CMD INSTALL DMRScan StartedAt: 2025-11-06 15:11:14 -0500 (Thu, 06 Nov 2025) EndedAt: 2025-11-06 15:11:19 -0500 (Thu, 06 Nov 2025) EllapsedTime: 5.4 seconds RetCode: 0 Status: OK