Package: DMRScan Version: 1.32.0 Command: /Library/Frameworks/R.framework/Resources/bin/R CMD build --keep-empty-dirs --no-resave-data DMRScan StartedAt: 2025-11-06 16:14:29 -0500 (Thu, 06 Nov 2025) EndedAt: 2025-11-06 16:14:58 -0500 (Thu, 06 Nov 2025) EllapsedTime: 28.3 seconds RetCode: 0 Status: OK PackageFile: DMRScan_1.32.0.tar.gz PackageFileSize: 3.346 MiB