Package: DMCHMM Version: 1.31.0 Command: /home/biocbuild/bbs-3.22-bioc/R/bin/R CMD INSTALL DMCHMM StartedAt: 2025-10-24 15:38:15 -0400 (Fri, 24 Oct 2025) EndedAt: 2025-10-24 15:38:48 -0400 (Fri, 24 Oct 2025) EllapsedTime: 33.0 seconds RetCode: 0 Status: OK