Package: DMCHMM Version: 1.31.0 Command: /Library/Frameworks/R.framework/Resources/bin/R CMD INSTALL DMCHMM StartedAt: 2025-10-28 15:17:31 -0400 (Tue, 28 Oct 2025) EndedAt: 2025-10-28 15:17:45 -0400 (Tue, 28 Oct 2025) EllapsedTime: 13.5 seconds RetCode: 0 Status: OK