Package: DMCHMM Version: 1.31.0 Command: /Library/Frameworks/R.framework/Resources/bin/R CMD build --keep-empty-dirs --no-resave-data DMCHMM StartedAt: 2025-10-28 16:14:08 -0400 (Tue, 28 Oct 2025) EndedAt: 2025-10-28 16:14:41 -0400 (Tue, 28 Oct 2025) EllapsedTime: 33.3 seconds RetCode: 0 Status: OK PackageFile: DMCHMM_1.31.0.tar.gz PackageFileSize: 743.6 KiB