Package: DMCHMM Version: 1.31.0 Command: rm -rf DMCHMM.buildbin-libdir && mkdir DMCHMM.buildbin-libdir && /Users/biocbuild/BBS/utils/build-universal.sh DMCHMM_1.31.0.tar.gz /Library/Frameworks/R.framework/Resources/bin/R DMCHMM.buildbin-libdir StartedAt: 2025-10-28 22:57:50 -0400 (Tue, 28 Oct 2025) EndedAt: 2025-10-28 22:58:06 -0400 (Tue, 28 Oct 2025) EllapsedTime: 15.3 seconds RetCode: 0 Status: OK PackageFile: DMCHMM_1.31.0.tgz PackageFileSize: 967.4 KiB