Package: DFplyr Version: 1.4.0 Command: /Library/Frameworks/R.framework/Resources/bin/R CMD INSTALL DFplyr StartedAt: 2025-10-31 15:23:24 -0400 (Fri, 31 Oct 2025) EndedAt: 2025-10-31 15:23:35 -0400 (Fri, 31 Oct 2025) EllapsedTime: 11.1 seconds RetCode: 0 Status: OK