Package: DFplyr Version: 1.4.0 Command: /Library/Frameworks/R.framework/Resources/bin/R CMD build --keep-empty-dirs --no-resave-data DFplyr StartedAt: 2025-11-02 16:51:38 -0500 (Sun, 02 Nov 2025) EndedAt: 2025-11-02 16:52:02 -0500 (Sun, 02 Nov 2025) EllapsedTime: 23.9 seconds RetCode: 0 Status: OK PackageFile: DFplyr_1.4.0.tar.gz PackageFileSize: 395.5 KiB