Package: DFplyr Version: 1.4.0 Command: rm -rf DFplyr.buildbin-libdir && mkdir DFplyr.buildbin-libdir && /Users/biocbuild/BBS/utils/build-universal.sh DFplyr_1.4.0.tar.gz /Library/Frameworks/R.framework/Resources/bin/R DFplyr.buildbin-libdir StartedAt: 2025-11-01 01:31:18 -0400 (Sat, 01 Nov 2025) EndedAt: 2025-11-01 01:31:29 -0400 (Sat, 01 Nov 2025) EllapsedTime: 11.6 seconds RetCode: 0 Status: OK PackageFile: DFplyr_1.4.0.tgz PackageFileSize: 596 KiB