Package: DFplyr Version: 1.3.2 Command: /Library/Frameworks/R.framework/Resources/bin/R CMD INSTALL DFplyr StartedAt: 2025-10-24 15:09:24 -0400 (Fri, 24 Oct 2025) EndedAt: 2025-10-24 15:09:26 -0400 (Fri, 24 Oct 2025) EllapsedTime: 2.6 seconds RetCode: 0 Status: OK