Package: DFplyr Version: 1.3.2 Command: /Library/Frameworks/R.framework/Resources/bin/R CMD build --keep-empty-dirs --no-resave-data DFplyr StartedAt: 2025-10-24 16:14:52 -0400 (Fri, 24 Oct 2025) EndedAt: 2025-10-24 16:15:00 -0400 (Fri, 24 Oct 2025) EllapsedTime: 8.1 seconds RetCode: 0 Status: OK PackageFile: DFplyr_1.3.2.tar.gz PackageFileSize: 396 KiB