Package: DFplyr Version: 1.3.2 Command: rm -rf DFplyr.buildbin-libdir && mkdir DFplyr.buildbin-libdir && /Users/biocbuild/BBS/utils/build-universal.sh DFplyr_1.3.2.tar.gz /Library/Frameworks/R.framework/Resources/bin/R DFplyr.buildbin-libdir StartedAt: 2025-10-24 23:00:49 -0400 (Fri, 24 Oct 2025) EndedAt: 2025-10-24 23:00:53 -0400 (Fri, 24 Oct 2025) EllapsedTime: 4.0 seconds RetCode: 0 Status: OK PackageFile: DFplyr_1.3.2.tgz PackageFileSize: 598.6 KiB