Package: DFplyr Version: 1.4.0 Maintainer: Jonathan Carroll MaintainerEmail: rpkg at jcarroll.com.au git_url: https://git.bioconductor.org/packages/DFplyr git_branch: RELEASE_3_22 git_last_commit: 3ff628e git_last_commit_date: 2025-10-29 11:32:58 -0400 (Wed, 29 Oct 2025)