Package: DFP Version: 1.67.0 Command: /home/biocbuild/bbs-3.22-bioc/R/bin/R CMD INSTALL DFP StartedAt: 2025-10-24 15:22:58 -0400 (Fri, 24 Oct 2025) EndedAt: 2025-10-24 15:23:03 -0400 (Fri, 24 Oct 2025) EllapsedTime: 4.5 seconds RetCode: 0 Status: OK