Package: DFP Version: 1.67.0 Command: /home/biocbuild/bbs-3.22-bioc/R/bin/R CMD build --keep-empty-dirs --no-resave-data --md5 DFP StartedAt: 2025-10-24 17:28:32 -0400 (Fri, 24 Oct 2025) EndedAt: 2025-10-24 17:28:42 -0400 (Fri, 24 Oct 2025) EllapsedTime: 10.0 seconds RetCode: 0 Status: OK PackageFile: DFP_1.67.0.tar.gz PackageFileSize: 497.9 KiB