Package: DExMA Version: 1.17.0 Command: /home/biocbuild/bbs-3.22-bioc/R/bin/R CMD INSTALL DExMA StartedAt: 2025-10-24 15:44:29 -0400 (Fri, 24 Oct 2025) EndedAt: 2025-10-24 15:45:02 -0400 (Fri, 24 Oct 2025) EllapsedTime: 33.0 seconds RetCode: 0 Status: OK