Package: DExMA Version: 1.18.0 Command: /Library/Frameworks/R.framework/Resources/bin/R CMD INSTALL DExMA StartedAt: 2025-11-10 15:18:57 -0500 (Mon, 10 Nov 2025) EndedAt: 2025-11-10 15:19:10 -0500 (Mon, 10 Nov 2025) EllapsedTime: 13.4 seconds RetCode: 0 Status: OK