Package: DEXSeq Version: 1.55.1 Command: /home/biocbuild/bbs-3.22-bioc/R/bin/R CMD INSTALL DEXSeq StartedAt: 2025-10-24 15:38:55 -0400 (Fri, 24 Oct 2025) EndedAt: 2025-10-24 15:39:30 -0400 (Fri, 24 Oct 2025) EllapsedTime: 35.3 seconds RetCode: 0 Status: OK