Package: DEXSeq Version: 1.56.0 Command: /Library/Frameworks/R.framework/Resources/bin/R CMD INSTALL DEXSeq StartedAt: 2025-10-31 15:33:40 -0400 (Fri, 31 Oct 2025) EndedAt: 2025-10-31 15:34:29 -0400 (Fri, 31 Oct 2025) EllapsedTime: 48.5 seconds RetCode: 0 Status: OK