Package: DEXSeq Version: 1.56.0 Command: /Library/Frameworks/R.framework/Resources/bin/R CMD build --keep-empty-dirs --no-resave-data DEXSeq StartedAt: 2025-10-31 16:52:07 -0400 (Fri, 31 Oct 2025) EndedAt: 2025-10-31 16:54:19 -0400 (Fri, 31 Oct 2025) EllapsedTime: 132.4 seconds RetCode: 0 Status: OK PackageFile: DEXSeq_1.56.0.tar.gz PackageFileSize: 1.778 MiB