Package: DEXSeq Version: 1.56.0 Command: rm -rf DEXSeq.buildbin-libdir && mkdir DEXSeq.buildbin-libdir && /Users/biocbuild/BBS/utils/build-universal.sh DEXSeq_1.56.0.tar.gz /Library/Frameworks/R.framework/Resources/bin/R DEXSeq.buildbin-libdir StartedAt: 2025-11-01 01:31:14 -0400 (Sat, 01 Nov 2025) EndedAt: 2025-11-01 01:32:08 -0400 (Sat, 01 Nov 2025) EllapsedTime: 53.9 seconds RetCode: 0 Status: OK PackageFile: DEXSeq_1.56.0.tgz PackageFileSize: 2.206 MiB