Package: DEXSeq Version: 1.55.1 Command: /Library/Frameworks/R.framework/Resources/bin/R CMD INSTALL DEXSeq StartedAt: 2025-10-24 15:15:58 -0400 (Fri, 24 Oct 2025) EndedAt: 2025-10-24 15:16:12 -0400 (Fri, 24 Oct 2025) EllapsedTime: 14.6 seconds RetCode: 0 Status: OK