Package: DEXSeq Version: 1.55.1 Command: /Library/Frameworks/R.framework/Resources/bin/R CMD build --keep-empty-dirs --no-resave-data DEXSeq StartedAt: 2025-10-24 16:14:45 -0400 (Fri, 24 Oct 2025) EndedAt: 2025-10-24 16:15:34 -0400 (Fri, 24 Oct 2025) EllapsedTime: 48.5 seconds RetCode: 0 Status: OK PackageFile: DEXSeq_1.55.1.tar.gz PackageFileSize: 1.789 MiB