Package: DEXSeq Version: 1.56.0 Maintainer: Alejandro Reyes MaintainerEmail: alejandro.reyes.ds at gmail.com git_url: https://git.bioconductor.org/packages/DEXSeq git_branch: RELEASE_3_22 git_last_commit: 0f430e0 git_last_commit_date: 2025-10-29 10:07:54 -0500 (Wed, 29 Oct 2025)