Package: DEWSeq Version: 1.24.0 Command: /home/biocbuild/bbs-3.22-bioc/R/bin/R CMD check --install=check:DEWSeq.install-out.txt --library=/home/biocbuild/bbs-3.22-bioc/R/site-library --timings DEWSeq_1.24.0.tar.gz StartedAt: 2025-11-02 23:11:27 -0500 (Sun, 02 Nov 2025) EndedAt: 2025-11-02 23:17:01 -0500 (Sun, 02 Nov 2025) EllapsedTime: 334.4 seconds RetCode: 0 Status: OK CheckDir: DEWSeq.Rcheck Warnings: 0