Package: DEWSeq Version: 1.24.0 Command: /Library/Frameworks/R.framework/Resources/bin/R CMD INSTALL DEWSeq StartedAt: 2025-10-31 15:29:50 -0400 (Fri, 31 Oct 2025) EndedAt: 2025-10-31 15:30:25 -0400 (Fri, 31 Oct 2025) EllapsedTime: 35.1 seconds RetCode: 0 Status: OK