Package: DEWSeq Version: 1.24.0 Command: /Library/Frameworks/R.framework/Resources/bin/R CMD build --keep-empty-dirs --no-resave-data DEWSeq StartedAt: 2025-10-31 16:52:00 -0400 (Fri, 31 Oct 2025) EndedAt: 2025-10-31 16:54:16 -0400 (Fri, 31 Oct 2025) EllapsedTime: 135.9 seconds RetCode: 0 Status: OK PackageFile: DEWSeq_1.24.0.tar.gz PackageFileSize: 3.422 MiB