Package: DEWSeq Version: 1.23.1 Command: /Library/Frameworks/R.framework/Resources/bin/R CMD build --keep-empty-dirs --no-resave-data DEWSeq StartedAt: 2025-10-26 16:14:10 -0400 (Sun, 26 Oct 2025) EndedAt: 2025-10-26 16:14:47 -0400 (Sun, 26 Oct 2025) EllapsedTime: 37.4 seconds RetCode: 0 Status: OK PackageFile: DEWSeq_1.23.1.tar.gz PackageFileSize: 3.422 MiB