Package: DEP Version: 1.31.2 Command: /home/biocbuild/bbs-3.22-bioc/R/bin/R CMD INSTALL DEP StartedAt: 2025-10-24 15:47:43 -0400 (Fri, 24 Oct 2025) EndedAt: 2025-10-24 15:48:25 -0400 (Fri, 24 Oct 2025) EllapsedTime: 41.9 seconds RetCode: 0 Status: OK