Package: DEP Version: 1.31.2 Command: /home/biocbuild/bbs-3.22-bioc/R/bin/R CMD build --keep-empty-dirs --no-resave-data --md5 DEP StartedAt: 2025-10-24 17:25:28 -0400 (Fri, 24 Oct 2025) EndedAt: 2025-10-24 17:27:01 -0400 (Fri, 24 Oct 2025) EllapsedTime: 93.1 seconds RetCode: 0 Status: OK PackageFile: DEP_1.31.2.tar.gz PackageFileSize: 3.438 MiB