Package: DEGseq Version: 1.63.0 Command: /home/biocbuild/bbs-3.22-bioc/R/bin/R CMD INSTALL DEGseq StartedAt: 2025-10-24 15:20:24 -0400 (Fri, 24 Oct 2025) EndedAt: 2025-10-24 15:20:43 -0400 (Fri, 24 Oct 2025) EllapsedTime: 19.4 seconds RetCode: 0 Status: OK