Package: DEGraph Version: 1.61.0 Command: /home/biocbuild/bbs-3.22-bioc/R/bin/R CMD build --keep-empty-dirs --no-resave-data --md5 DEGraph StartedAt: 2025-10-24 17:23:43 -0400 (Fri, 24 Oct 2025) EndedAt: 2025-10-24 17:24:06 -0400 (Fri, 24 Oct 2025) EllapsedTime: 23.0 seconds RetCode: 0 Status: OK PackageFile: DEGraph_1.61.0.tar.gz PackageFileSize: 1.533 MiB