Package: DEFormats Version: 1.37.0 Command: /home/biocbuild/bbs-3.22-bioc/R/bin/R CMD build --keep-empty-dirs --no-resave-data --md5 DEFormats StartedAt: 2025-10-24 17:23:04 -0400 (Fri, 24 Oct 2025) EndedAt: 2025-10-24 17:23:43 -0400 (Fri, 24 Oct 2025) EllapsedTime: 39.0 seconds RetCode: 0 Status: OK PackageFile: DEFormats_1.37.0.tar.gz PackageFileSize: 227.2 KiB