Package: DCATS Version: 1.7.0 Command: /home/biocbuild/bbs-3.22-bioc/R/bin/R CMD INSTALL DCATS StartedAt: 2025-10-27 15:07:24 -0400 (Mon, 27 Oct 2025) EndedAt: 2025-10-27 15:07:34 -0400 (Mon, 27 Oct 2025) EllapsedTime: 10.0 seconds RetCode: 0 Status: OK