Package: DART Version: 1.57.0 Command: /home/biocbuild/bbs-3.22-bioc/R/bin/R CMD build --keep-empty-dirs --no-resave-data --md5 DART StartedAt: 2025-10-24 17:20:29 -0400 (Fri, 24 Oct 2025) EndedAt: 2025-10-24 17:20:48 -0400 (Fri, 24 Oct 2025) EllapsedTime: 19.0 seconds RetCode: 0 Status: OK PackageFile: DART_1.57.0.tar.gz PackageFileSize: 1.989 MiB