Package: DART Version: 1.57.0 Command: /Library/Frameworks/R.framework/Resources/bin/R CMD build --keep-empty-dirs --no-resave-data DART StartedAt: 2025-10-24 16:10:32 -0400 (Fri, 24 Oct 2025) EndedAt: 2025-10-24 16:10:43 -0400 (Fri, 24 Oct 2025) EllapsedTime: 10.1 seconds RetCode: 0 Status: OK PackageFile: DART_1.57.0.tar.gz PackageFileSize: 1.987 MiB