Package: DART Version: 1.57.0 Command: rm -rf DART.buildbin-libdir && mkdir DART.buildbin-libdir && /Users/biocbuild/BBS/utils/build-universal.sh DART_1.57.0.tar.gz /Library/Frameworks/R.framework/Resources/bin/R DART.buildbin-libdir StartedAt: 2025-10-24 22:59:59 -0400 (Fri, 24 Oct 2025) EndedAt: 2025-10-24 23:00:01 -0400 (Fri, 24 Oct 2025) EllapsedTime: 2.0 seconds RetCode: 0 Status: OK PackageFile: DART_1.57.0.tgz PackageFileSize: 2.029 MiB