Package: DAPAR Version: 1.42.0 Command: rm -rf DAPAR.buildbin-libdir && mkdir DAPAR.buildbin-libdir && /Users/biocbuild/BBS/utils/build-universal.sh DAPAR_1.42.0.tar.gz /Library/Frameworks/R.framework/Resources/bin/R DAPAR.buildbin-libdir StartedAt: 2025-11-02 23:01:51 -0500 (Sun, 02 Nov 2025) EndedAt: 2025-11-02 23:02:10 -0500 (Sun, 02 Nov 2025) EllapsedTime: 19.4 seconds RetCode: 0 Status: OK PackageFile: DAPAR_1.42.0.tgz PackageFileSize: 721.7 KiB