Package: DAMEfinder Version: 1.21.2 Command: /home/biocbuild/bbs-3.22-bioc/R/bin/R CMD INSTALL DAMEfinder StartedAt: 2025-10-24 15:56:05 -0400 (Fri, 24 Oct 2025) EndedAt: 2025-10-24 15:56:34 -0400 (Fri, 24 Oct 2025) EllapsedTime: 28.8 seconds RetCode: 0 Status: OK