Package: CytoPipelineGUI Version: 1.7.2 Command: /home/biocbuild/R/R/bin/R CMD INSTALL CytoPipelineGUI StartedAt: 2025-10-23 20:57:38 -0000 (Thu, 23 Oct 2025) EndedAt: 2025-10-23 20:57:55 -0000 (Thu, 23 Oct 2025) EllapsedTime: 17.4 seconds RetCode: 0 Status: OK