Package: CytoPipelineGUI Version: 1.7.2 Command: /home/biocbuild/R/R/bin/R CMD check --install=check:CytoPipelineGUI.install-out.txt --library=/home/biocbuild/R/R/site-library --no-vignettes --timings CytoPipelineGUI_1.7.2.tar.gz StartedAt: 2025-10-21 07:07:16 -0000 (Tue, 21 Oct 2025) EndedAt: 2025-10-21 07:10:53 -0000 (Tue, 21 Oct 2025) EllapsedTime: 217.1 seconds RetCode: 0 Status: OK CheckDir: CytoPipelineGUI.Rcheck Warnings: 0