Package: CytoPipelineGUI Version: 1.7.2 Command: /home/biocbuild/R/R/bin/R CMD build --keep-empty-dirs --no-resave-data CytoPipelineGUI StartedAt: 2025-10-20 23:08:39 -0000 (Mon, 20 Oct 2025) EndedAt: 2025-10-20 23:09:39 -0000 (Mon, 20 Oct 2025) EllapsedTime: 60.0 seconds RetCode: 0 Status: OK PackageFile: CytoPipelineGUI_1.7.2.tar.gz PackageFileSize: 1.189 MiB